BEGIN:VCALENDAR
VERSION:2.0
PRODID:SchoolNow
CALSCALE:GREGORIAN
BEGIN:VEVENT
UID:3cccf4ba-d9fd-11f0-8c88-0affcb31d49b
DTSTAMP:20251216T154512Z
SUMMARY:Dual 1st MAP SLA Test
URL;VALUE=URI:https://www.dg58.org/es/calendar/8824212/dual-1st-map-sla-tes
 t
DTSTART:20260115T143000Z
DTEND:20260115T153000Z
END:VEVENT
END:VCALENDAR
