BEGIN:VCALENDAR
VERSION:2.0
PRODID:SchoolNow
CALSCALE:GREGORIAN
BEGIN:VEVENT
UID:3cccf2f8-d9fd-11f0-b9f0-0affcb31d49b
DTSTAMP:20251216T154512Z
SUMMARY:District 58 Closed - No School for Students
URL;VALUE=URI:https://www.dg58.org/es/calendar/8824211/district-58-closed-n
 o-school-for-students
DTSTART;VALUE=DATE:20260119
DTEND;VALUE=DATE:20260120
END:VEVENT
END:VCALENDAR
