BEGIN:VCALENDAR
VERSION:2.0
PRODID:SchoolNow
CALSCALE:GREGORIAN
BEGIN:VEVENT
UID:3cccf1fe-d9fd-11f0-b2ff-0affcb31d49b
DTSTAMP:20251216T154512Z
SUMMARY:6th & 3rd MAP ELA Testing
URL;VALUE=URI:https://www.dg58.org/es/calendar/8824210/6th-3rd-map-ela-test
 ing
DTSTART:20260114T184500Z
DTEND:20260114T194500Z
END:VEVENT
END:VCALENDAR
