BEGIN:VCALENDAR
VERSION:2.0
PRODID:SchoolNow
CALSCALE:GREGORIAN
BEGIN:VEVENT
UID:3cccf0d2-d9fd-11f0-83e7-0affcb31d49b
DTSTAMP:20251216T154512Z
SUMMARY:Dual 3rd MAP SLA
URL;VALUE=URI:https://www.dg58.org/es/calendar/8824209/dual-3rd-map-sla
DTSTART:20260116T181500Z
DTEND:20260116T191500Z
END:VEVENT
END:VCALENDAR
