BEGIN:VCALENDAR
VERSION:2.0
PRODID:SchoolNow
CALSCALE:GREGORIAN
BEGIN:VEVENT
UID:3ccceb28-d9fd-11f0-ab79-0affcb31d49b
DTSTAMP:20251216T154512Z
SUMMARY:Dual 6th MAP SLA Testing
URL;VALUE=URI:https://www.dg58.org/es/calendar/8824207/dual-6th-map-sla-tes
 ting
DTSTART:20260115T194500Z
DTEND:20260115T204500Z
END:VEVENT
END:VCALENDAR
