BEGIN:VCALENDAR
VERSION:2.0
PRODID:SchoolNow
CALSCALE:GREGORIAN
BEGIN:VEVENT
UID:a2d19f2e-be80-11f0-a140-0afff5cf8413
DTSTAMP:20251216T154512Z
SUMMARY:PTA Winter Party
URL;VALUE=URI:https://www.dg58.org/es/calendar/8788147/pta-winter-party
DTSTART:20251219T200000Z
DTEND:20251219T210000Z
END:VEVENT
END:VCALENDAR
