BEGIN:VCALENDAR
VERSION:2.0
PRODID:SchoolNow
CALSCALE:GREGORIAN
BEGIN:VEVENT
UID:21b20784-b48b-11f0-a63b-0a58a9feac02
DTSTAMP:20251216T154512Z
SUMMARY:Breakfast With Santa
URL;VALUE=URI:https://www.dg58.org/es/calendar/8758447/breakfast-with-santa
DTSTART:20251206T150000Z
DTEND:20251206T170000Z
END:VEVENT
END:VCALENDAR
