BEGIN:VCALENDAR
VERSION:2.0
PRODID:SchoolNow
CALSCALE:GREGORIAN
BEGIN:VEVENT
UID:841f404c-adf8-11f0-882a-026380901c47
DTSTAMP:20251216T154512Z
SUMMARY:District 58 Closed - No School for Students
URL;VALUE=URI:https://www.dg58.org/es/calendar/8736413/district-58-closed-n
 o-school-for-students
DTSTART;VALUE=DATE:20251127
DTEND;VALUE=DATE:20251128
END:VEVENT
END:VCALENDAR
