BEGIN:VCALENDAR
VERSION:2.0
PRODID:SchoolNow
CALSCALE:GREGORIAN
BEGIN:VEVENT
UID:11f22eb2-9fbb-11f0-8d35-0a58a9feac02
DTSTAMP:20251216T154512Z
SUMMARY:Halloween Room Parties
URL;VALUE=URI:https://www.dg58.org/es/calendar/8687685/halloween-room-parti
 es
DTSTART:20251031T190000Z
DTEND:20251031T200000Z
END:VEVENT
END:VCALENDAR
