BEGIN:VCALENDAR
VERSION:2.0
PRODID:SchoolNow
CALSCALE:GREGORIAN
BEGIN:VEVENT
UID:11f22b24-9fbb-11f0-89f4-0a58a9feac02
DTSTAMP:20251216T154512Z
SUMMARY:Halloween Parade
URL;VALUE=URI:https://www.dg58.org/es/calendar/8687684/halloween-parade
DTSTART:20251031T184500Z
DTEND:20251031T190000Z
END:VEVENT
END:VCALENDAR
