BEGIN:VCALENDAR
VERSION:2.0
PRODID:SchoolNow
CALSCALE:GREGORIAN
BEGIN:VEVENT
UID:25e4f376-9e23-11f0-8e27-0a58a9feac02
DTSTAMP:20251216T154512Z
SUMMARY:5th Grade Outdoor Ed. Trip
URL;VALUE=URI:https://www.dg58.org/es/calendar/8680522/5th-grade-outdoor-ed
 -trip
DTSTART;VALUE=DATE:20251014
DTEND;VALUE=DATE:20251015
END:VEVENT
END:VCALENDAR
