BEGIN:VCALENDAR
VERSION:2.0
PRODID:SchoolNow
CALSCALE:GREGORIAN
BEGIN:VEVENT
UID:7840a292-97f6-11f0-b5e2-0a58a9feac02
DTSTAMP:20251216T154512Z
SUMMARY:Kindergarten Round Up
URL;VALUE=URI:https://www.dg58.org/es/calendar/8653531/kindergarten-round-u
 p
DTSTART:20260305T000000Z
DTEND:20260305T010000Z
END:VEVENT
END:VCALENDAR
