BEGIN:VCALENDAR
VERSION:2.0
PRODID:SchoolNow
CALSCALE:GREGORIAN
BEGIN:VEVENT
UID:a7aef53c-942d-11f0-b369-0afffabb9835
DTSTAMP:20251216T154512Z
SUMMARY:Family Math Night
URL;VALUE=URI:https://www.dg58.org/es/calendar/8634587/family-math-night
DTSTART:20260311T230000Z
DTEND:20260312T003000Z
END:VEVENT
END:VCALENDAR
