BEGIN:VCALENDAR
VERSION:2.0
PRODID:SchoolNow
CALSCALE:GREGORIAN
BEGIN:VEVENT
UID:a7aef244-942d-11f0-a7aa-0afffabb9835
DTSTAMP:20251216T154512Z
SUMMARY:Family Reading Night
URL;VALUE=URI:https://www.dg58.org/es/calendar/8634586/family-reading-night
DTSTART:20251114T003000Z
DTEND:20251114T013000Z
END:VEVENT
END:VCALENDAR
