BEGIN:VCALENDAR
VERSION:2.0
PRODID:SchoolNow
CALSCALE:GREGORIAN
BEGIN:VEVENT
UID:e03768f4-8ffe-11f0-a36a-02fc41c066dd
DTSTAMP:20251216T154512Z
SUMMARY:Freaky Friday
URL;VALUE=URI:https://www.dg58.org/es/calendar/8613966/freaky-friday
DTSTART:20251024T230000Z
DTEND:20251025T010000Z
END:VEVENT
END:VCALENDAR
