BEGIN:VCALENDAR
VERSION:2.0
PRODID:SchoolNow
CALSCALE:GREGORIAN
BEGIN:VEVENT
UID:fb57006e-8dcd-11f0-824f-0a58a9feac02
DTSTAMP:20251216T154512Z
SUMMARY:PTA Meeting
URL;VALUE=URI:https://www.dg58.org/es/calendar/8602505/pta-meeting
DTSTART:20260519T234500Z
DTEND:20260520T011500Z
END:VEVENT
END:VCALENDAR
