BEGIN:VCALENDAR
VERSION:2.0
PRODID:SchoolNow
CALSCALE:GREGORIAN
BEGIN:VEVENT
UID:fb56fea2-8dcd-11f0-b146-0a58a9feac02
DTSTAMP:20251216T154512Z
SUMMARY:PTA Meeting
URL;VALUE=URI:https://www.dg58.org/es/calendar/8602503/pta-meeting
DTSTART:20260317T234500Z
DTEND:20260318T011500Z
END:VEVENT
END:VCALENDAR
