BEGIN:VCALENDAR
VERSION:2.0
PRODID:SchoolNow
CALSCALE:GREGORIAN
BEGIN:VEVENT
UID:fb56fdbc-8dcd-11f0-9dfd-0a58a9feac02
DTSTAMP:20251216T154512Z
SUMMARY:PTA Meeting
URL;VALUE=URI:https://www.dg58.org/es/calendar/8602502/pta-meeting
DTSTART:20260218T004500Z
DTEND:20260218T021500Z
END:VEVENT
END:VCALENDAR
