BEGIN:VCALENDAR
VERSION:2.0
PRODID:SchoolNow
CALSCALE:GREGORIAN
BEGIN:VEVENT
UID:fb56f8ee-8dcd-11f0-a72a-0a58a9feac02
DTSTAMP:20251216T154512Z
SUMMARY:PTA Meeting
URL;VALUE=URI:https://www.dg58.org/es/calendar/8602497/pta-meeting
DTSTART:20250916T234500Z
DTEND:20250917T011500Z
END:VEVENT
END:VCALENDAR
