BEGIN:VCALENDAR
VERSION:2.0
PRODID:SchoolNow
CALSCALE:GREGORIAN
BEGIN:VEVENT
UID:fb56f808-8dcd-11f0-9e39-0a58a9feac02
DTSTAMP:20251216T154512Z
SUMMARY:PTA Fall Into Fun Event
URL;VALUE=URI:https://www.dg58.org/es/calendar/8602496/pta-fall-into-fun-ev
 ent
DTSTART:20251003T210000Z
DTEND:20251003T230000Z
END:VEVENT
END:VCALENDAR
