BEGIN:VCALENDAR
VERSION:2.0
PRODID:SchoolNow
CALSCALE:GREGORIAN
BEGIN:VEVENT
UID:fb56f70e-8dcd-11f0-9b6d-0a58a9feac02
DTSTAMP:20251216T154512Z
SUMMARY:Bus Evacuation Drill
URL;VALUE=URI:https://www.dg58.org/es/calendar/8602495/bus-evacuation-drill
DTSTART:20251002T143000Z
DTEND:20251002T153000Z
END:VEVENT
END:VCALENDAR
