BEGIN:VCALENDAR
VERSION:2.0
PRODID:SchoolNow
CALSCALE:GREGORIAN
BEGIN:VEVENT
UID:fb56f628-8dcd-11f0-a5ca-0a58a9feac02
DTSTAMP:20251216T154512Z
SUMMARY:Police Safety Drill
URL;VALUE=URI:https://www.dg58.org/es/calendar/8602494/police-safety-drill
DTSTART:20250929T140000Z
DTEND:20250929T150000Z
END:VEVENT
END:VCALENDAR
