BEGIN:VCALENDAR
VERSION:2.0
PRODID:SchoolNow
CALSCALE:GREGORIAN
BEGIN:VEVENT
UID:fb56f538-8dcd-11f0-ae9e-0a58a9feac02
DTSTAMP:20251216T154512Z
SUMMARY:Fun Lunch
URL;VALUE=URI:https://www.dg58.org/es/calendar/8602493/fun-lunch
DTSTART:20250926T163000Z
DTEND:20250926T173000Z
END:VEVENT
END:VCALENDAR
