BEGIN:VCALENDAR
VERSION:2.0
PRODID:SchoolNow
CALSCALE:GREGORIAN
BEGIN:VEVENT
UID:fb56f43e-8dcd-11f0-8e53-0a58a9feac02
DTSTAMP:20251216T154512Z
SUMMARY:All-School Assembly
URL;VALUE=URI:https://www.dg58.org/es/calendar/8602492/all-school-assembly
DTSTART:20250926T135500Z
DTEND:20250926T142500Z
END:VEVENT
END:VCALENDAR
