BEGIN:VCALENDAR
VERSION:2.0
PRODID:SchoolNow
CALSCALE:GREGORIAN
BEGIN:VEVENT
UID:fb56f326-8dcd-11f0-86af-0a58a9feac02
DTSTAMP:20251216T154512Z
SUMMARY:Fire Drill w/DGFD
URL;VALUE=URI:https://www.dg58.org/es/calendar/8602491/fire-drill-w-dgfd
DTSTART:20250922T143000Z
DTEND:20250922T150000Z
END:VEVENT
END:VCALENDAR
