BEGIN:VCALENDAR
VERSION:2.0
PRODID:SchoolNow
CALSCALE:GREGORIAN
BEGIN:VEVENT
UID:fb56f240-8dcd-11f0-9300-0a58a9feac02
DTSTAMP:20251216T154512Z
SUMMARY:BPAC Mtg
URL;VALUE=URI:https://www.dg58.org/es/calendar/8602490/bpac-mtg
DTSTART:20250917T233000Z
DTEND:20250918T003000Z
END:VEVENT
END:VCALENDAR
