BEGIN:VCALENDAR
VERSION:2.0
PRODID:SchoolNow
CALSCALE:GREGORIAN
BEGIN:VEVENT
UID:fb56f150-8dcd-11f0-9dd8-0a58a9feac02
DTSTAMP:20251216T154512Z
SUMMARY:Fire Drill
URL;VALUE=URI:https://www.dg58.org/es/calendar/8602489/fire-drill
DTSTART:20250918T140000Z
DTEND:20250918T141500Z
END:VEVENT
END:VCALENDAR
