BEGIN:VCALENDAR
VERSION:2.0
PRODID:SchoolNow
CALSCALE:GREGORIAN
BEGIN:VEVENT
UID:fb56f056-8dcd-11f0-8d9e-0a58a9feac02
DTSTAMP:20251216T154512Z
SUMMARY:School Picture Day!
URL;VALUE=URI:https://www.dg58.org/es/calendar/8602488/school-picture-day
DTSTART:20250917T133000Z
DTEND:20250917T150000Z
END:VEVENT
END:VCALENDAR
