BEGIN:VCALENDAR
VERSION:2.0
PRODID:SchoolNow
CALSCALE:GREGORIAN
BEGIN:VEVENT
UID:fb56ef66-8dcd-11f0-98b1-0a58a9feac02
DTSTAMP:20251216T154512Z
SUMMARY:KDG MAP (Reading)
URL;VALUE=URI:https://www.dg58.org/es/calendar/8602487/kdg-map-reading
DTSTART:20250916T133000Z
DTEND:20250916T150000Z
END:VEVENT
END:VCALENDAR
