BEGIN:VCALENDAR
VERSION:2.0
PRODID:SchoolNow
CALSCALE:GREGORIAN
BEGIN:VEVENT
UID:fb56ee80-8dcd-11f0-a2a3-0a58a9feac02
DTSTAMP:20251216T154512Z
SUMMARY:KDG MAP (Math)
URL;VALUE=URI:https://www.dg58.org/es/calendar/8602486/kdg-map-math
DTSTART:20250912T133000Z
DTEND:20250912T143000Z
END:VEVENT
END:VCALENDAR
