BEGIN:VCALENDAR
VERSION:2.0
PRODID:SchoolNow
CALSCALE:GREGORIAN
BEGIN:VEVENT
UID:fb56ed7c-8dcd-11f0-b5e8-0a58a9feac02
DTSTAMP:20251216T154512Z
SUMMARY:Reading MAP (3rd & 6th)
URL;VALUE=URI:https://www.dg58.org/es/calendar/8602485/reading-map-3rd-6th
DTSTART:20250910T174500Z
DTEND:20250910T191500Z
END:VEVENT
END:VCALENDAR
