BEGIN:VCALENDAR
VERSION:2.0
PRODID:SchoolNow
CALSCALE:GREGORIAN
BEGIN:VEVENT
UID:fb56ec6e-8dcd-11f0-997a-0a58a9feac02
DTSTAMP:20251216T154512Z
SUMMARY:Reading MAP (Blanco\, 4th & 5th)
URL;VALUE=URI:https://www.dg58.org/es/calendar/8602484/reading-map-blanco-4
 th-5th
DTSTART:20250910T133000Z
DTEND:20250910T150000Z
END:VEVENT
END:VCALENDAR
