BEGIN:VCALENDAR
VERSION:2.0
PRODID:SchoolNow
CALSCALE:GREGORIAN
BEGIN:VEVENT
UID:fb56eaf2-8dcd-11f0-ba7f-0a58a9feac02
DTSTAMP:20251216T154512Z
SUMMARY:1st & 2nd MAP (Reading)
URL;VALUE=URI:https://www.dg58.org/es/calendar/8602483/1st-2nd-map-reading
DTSTART:20250910T133000Z
DTEND:20250910T150000Z
END:VEVENT
END:VCALENDAR
