BEGIN:VCALENDAR
VERSION:2.0
PRODID:SchoolNow
CALSCALE:GREGORIAN
BEGIN:VEVENT
UID:fb56e9a8-8dcd-11f0-a93e-0a58a9feac02
DTSTAMP:20251216T154512Z
SUMMARY:Math MAP Testing (3rd - 6th)
URL;VALUE=URI:https://www.dg58.org/es/calendar/8602482/math-map-testing-3rd
 -6th
DTSTART:20250909T151500Z
DTEND:20250909T161500Z
END:VEVENT
END:VCALENDAR
