BEGIN:VCALENDAR
VERSION:2.0
PRODID:SchoolNow
CALSCALE:GREGORIAN
BEGIN:VEVENT
UID:fb56e656-8dcd-11f0-aab3-0a58a9feac02
DTSTAMP:20251216T154512Z
SUMMARY:Math MAP Testing (1st & 2nd)
URL;VALUE=URI:https://www.dg58.org/es/calendar/8602481/math-map-testing-1st
 -2nd
DTSTART:20250909T133000Z
DTEND:20250909T143000Z
END:VEVENT
END:VCALENDAR
