BEGIN:VCALENDAR
VERSION:2.0
PRODID:SchoolNow
CALSCALE:GREGORIAN
BEGIN:VEVENT
UID:d90507da-7edd-11f0-9b8e-0affd550a37f
DTSTAMP:20251216T154512Z
SUMMARY:Ice Cream Social
URL;VALUE=URI:https://www.dg58.org/es/calendar/8530509/ice-cream-social
DTSTART:20250909T223000Z
DTEND:20250910T000000Z
END:VEVENT
END:VCALENDAR
