BEGIN:VCALENDAR
VERSION:2.0
PRODID:SchoolNow
CALSCALE:GREGORIAN
BEGIN:VEVENT
UID:1a894872-794a-11f0-8c34-0a58a9feac02
DTSTAMP:20251216T154512Z
SUMMARY:Watch DOGS Pizza Night
URL;VALUE=URI:https://www.dg58.org/es/calendar/8508428/watch-dogs-pizza-nig
 ht
DTSTART:20251007T223000Z
DTEND:20251008T000000Z
END:VEVENT
END:VCALENDAR
