BEGIN:VCALENDAR
VERSION:2.0
PRODID:SchoolNow
CALSCALE:GREGORIAN
BEGIN:VEVENT
UID:69f1ee06-731d-11f0-a772-0a58a9feac02
DTSTAMP:20251216T154512Z
SUMMARY:District 58 Closed - No School for Students
URL;VALUE=URI:https://www.dg58.org/es/calendar/8477562/district-58-closed-n
 o-school-for-students
DTSTART;VALUE=DATE:20260525
DTEND;VALUE=DATE:20260526
END:VEVENT
END:VCALENDAR
