BEGIN:VCALENDAR
VERSION:2.0
PRODID:SchoolNow
CALSCALE:GREGORIAN
BEGIN:VEVENT
UID:69f1ea46-731d-11f0-8c56-0a58a9feac02
DTSTAMP:20251216T154512Z
SUMMARY:Open House - ES\, FA\, HL\, IT\, KG
URL;VALUE=URI:https://www.dg58.org/es/calendar/8477561/open-house-es-fa-hl-
 it-kg
DTSTART:20260428T230000Z
DTEND:20260429T003000Z
END:VEVENT
END:VCALENDAR
