BEGIN:VCALENDAR
VERSION:2.0
PRODID:SchoolNow
CALSCALE:GREGORIAN
BEGIN:VEVENT
UID:86467ca6-7251-11f0-8069-0affc2082557
DTSTAMP:20251216T154512Z
SUMMARY:Elementary Meet and Greet
URL;VALUE=URI:https://www.dg58.org/es/calendar/8473830/elementary-meet-and-
 greet
DTSTART:20250828T194500Z
DTEND:20250828T203000Z
END:VEVENT
END:VCALENDAR
