BEGIN:VCALENDAR
VERSION:2.0
PRODID:SchoolNow
CALSCALE:GREGORIAN
BEGIN:VEVENT
UID:81199d7c-721e-11f0-96c9-0e8579aec7fb
DTSTAMP:20251216T154512Z
SUMMARY:Curriculum Night - ES\, FA\, IT\, HL\, KG
URL;VALUE=URI:https://www.dg58.org/es/calendar/8472838/curriculum-night-es-
 fa-it-hl-kg
DTSTART:20250910T230000Z
DTEND:20250911T003000Z
END:VEVENT
END:VCALENDAR
