BEGIN:VCALENDAR
VERSION:2.0
PRODID:SchoolNow
CALSCALE:GREGORIAN
BEGIN:VEVENT
UID:23fdaef4-3d89-11f0-a457-0a58a9feac02
DTSTAMP:20251216T154512Z
SUMMARY:First day of School/PreK Meet the Teacher
URL;VALUE=URI:https://www.dg58.org/es/calendar/8226724/first-day-of-school-
 prek-meet-the-teacher
DTSTART;VALUE=DATE:20250902
DTEND;VALUE=DATE:20250903
END:VEVENT
END:VCALENDAR
