BEGIN:VCALENDAR
VERSION:2.0
PRODID:SchoolNow
CALSCALE:GREGORIAN
BEGIN:VEVENT
UID:a4640aae-2873-11f1-a1da-0a58a9feac02
DTSTAMP:20260421T081009Z
SUMMARY:DG58 Parent/Guardian School Environment Survey CLOSES
URL;VALUE=URI:https://www.dg58.org/calendar/8944812/dg58-parent-guardian-sc
 hool-environment-survey-closes
DTSTART;VALUE=DATE:20260227
DTEND;VALUE=DATE:20260228
END:VEVENT
END:VCALENDAR
