BEGIN:VCALENDAR
VERSION:2.0
PRODID:SchoolNow
CALSCALE:GREGORIAN
BEGIN:VEVENT
UID:a46406bc-2873-11f1-a258-0a58a9feac02
DTSTAMP:20260421T081009Z
SUMMARY:Registration for 2026-27 OPENS
URL;VALUE=URI:https://www.dg58.org/calendar/8944808/registration-for-2026-2
 7-opens
DTSTART;VALUE=DATE:20260213
DTEND;VALUE=DATE:20260214
END:VEVENT
END:VCALENDAR
