BEGIN:VCALENDAR
VERSION:2.0
PRODID:SchoolNow
CALSCALE:GREGORIAN
BEGIN:VEVENT
UID:a463fd5c-2873-11f1-be8a-0a58a9feac02
DTSTAMP:20260421T081009Z
SUMMARY:Grove Children's Preschool Open House
URL;VALUE=URI:https://www.dg58.org/calendar/8944799/grove-childrens-prescho
 ol-open-house
DTSTART:20260218T230000Z
DTEND:20260219T003000Z
END:VEVENT
END:VCALENDAR
