BEGIN:VCALENDAR
VERSION:2.0
PRODID:SchoolNow
CALSCALE:GREGORIAN
BEGIN:VEVENT
UID:0a6a9cd0-d6be-11f0-8ca5-0a58a9feac02
DTSTAMP:20260421T081009Z
SUMMARY:Legislative Breakfast (NEW DATE)
LOCATION:Herrick Middle School\, 4435 Middaugh Ave\, Downers Grove\, IL 605
 15\, USA
URL;VALUE=URI:https://www.dg58.org/calendar/8821853/legislative-breakfast-n
 ew-date
DTSTART:20260220T130000Z
DTEND:20260220T150000Z
END:VEVENT
END:VCALENDAR
