BEGIN:VCALENDAR
VERSION:2.0
PRODID:SchoolNow
CALSCALE:GREGORIAN
BEGIN:VEVENT
UID:033600ea-67dc-11f0-bf7f-02f232ff2909
DTSTAMP:20260421T081009Z
SUMMARY:NO SCHOOL - Countywide Institute Day
URL;VALUE=URI:https://www.dg58.org/calendar/8440192/no-school-countywide-in
 stitute-day
DTSTART;VALUE=DATE:20260227
DTEND;VALUE=DATE:20260228
END:VEVENT
END:VCALENDAR
