BEGIN:VCALENDAR
VERSION:2.0
PRODID:SchoolNow
CALSCALE:GREGORIAN
BEGIN:VEVENT
UID:08ce9bd6-2878-11f1-9d7d-02075c545eb5
DTSTAMP:20260421T091007Z
SUMMARY:Young Authors
URL;VALUE=URI:https://www.dg58.org/ba/calendar/8945424/young-authors
DTSTART:20260303T210000Z
DTEND:20260303T215000Z
END:VEVENT
END:VCALENDAR
