BEGIN:VCALENDAR
VERSION:2.0
PRODID:SchoolNow
CALSCALE:GREGORIAN
BEGIN:VEVENT
UID:08a0d318-2878-11f1-908e-02075c545eb5
DTSTAMP:20260419T083007Z
SUMMARY:District 58 Author Fest
URL;VALUE=URI:https://www.dg58.org/ba/calendar/8945409/district-58-author-f
 est
DTSTART;VALUE=DATE:20260422
DTEND;VALUE=DATE:20260425
END:VEVENT
END:VCALENDAR
