BEGIN:VCALENDAR
VERSION:2.0
PRODID:SchoolNow
CALSCALE:GREGORIAN
BEGIN:VEVENT
UID:08a0cfee-2878-11f1-b43b-02075c545eb5
DTSTAMP:20260421T091007Z
SUMMARY:True Balance Ninja Warrior Night\, Time TBD
LOCATION:True Balance Karate\, 406 Ogden Ave\, Downers Grove\, IL 60515\, U
 SA
URL;VALUE=URI:https://www.dg58.org/ba/calendar/8945406/true-balance-ninja-w
 arrior-night-time-tbd
DTSTART;VALUE=DATE:20260213
DTEND;VALUE=DATE:20260214
END:VEVENT
END:VCALENDAR
